BEGIN:VCALENDAR
VERSION:2.0
PRODID:-//Høllet - ECPv6.15.19//NONSGML v1.0//EN
CALSCALE:GREGORIAN
METHOD:PUBLISH
X-ORIGINAL-URL:https://xn--hllet-vua.dk
X-WR-CALDESC:Begivenheder for Høllet
REFRESH-INTERVAL;VALUE=DURATION:PT1H
X-Robots-Tag:noindex
X-PUBLISHED-TTL:PT1H
BEGIN:VTIMEZONE
TZID:Europe/Copenhagen
BEGIN:DAYLIGHT
TZOFFSETFROM:+0100
TZOFFSETTO:+0200
TZNAME:CEST
DTSTART:20250330T010000
END:DAYLIGHT
BEGIN:STANDARD
TZOFFSETFROM:+0200
TZOFFSETTO:+0100
TZNAME:CET
DTSTART:20251026T010000
END:STANDARD
BEGIN:DAYLIGHT
TZOFFSETFROM:+0100
TZOFFSETTO:+0200
TZNAME:CEST
DTSTART:20260329T010000
END:DAYLIGHT
BEGIN:STANDARD
TZOFFSETFROM:+0200
TZOFFSETTO:+0100
TZNAME:CET
DTSTART:20261025T010000
END:STANDARD
BEGIN:DAYLIGHT
TZOFFSETFROM:+0100
TZOFFSETTO:+0200
TZNAME:CEST
DTSTART:20270328T010000
END:DAYLIGHT
BEGIN:STANDARD
TZOFFSETFROM:+0200
TZOFFSETTO:+0100
TZNAME:CET
DTSTART:20271031T010000
END:STANDARD
END:VTIMEZONE
BEGIN:VEVENT
DTSTART;TZID=Europe/Copenhagen:20260328T090000
DTEND;TZID=Europe/Copenhagen:20260328T090000
DTSTAMP:20260420T200123
CREATED:20260105T123536Z
LAST-MODIFIED:20260306T115544Z
UID:3505-1774688400-1774688400@xn--hllet-vua.dk
SUMMARY:Standerhejsning og generalforsamling
DESCRIPTION:Musik på havnen\, Ø. Hurup				\n				\n				\n				\n					\n		\n			15. maj 2026\n\n		\n	\n	  -  \n\n	16. maj 2026\n\n	\n				\n				\n				\n				\n					\n	\n				\n				\n				\n				\n									Så kan I godt begynde at glæde jer! Event Øster Hurup inviterer til 2 dage i den bedste setting på havnen\, hvor vi sammen kickstarter sommeren med musik\, stemning og masser af liv 🎸🎤🎶 								\n				\n				\n				\n					\n	\n		\n\n	\n	Tilføj til kalender	\n		\n	\n\n		\n			\n									\n	Google kalender\n\n									\n	iCalendar\n\n									\n	Outlook 365\n\n									\n	Outlook Live\n\n							\n		\n\n		\n	\n\n				\n				\n				\n				\n					\n				\n				\n	\n	Øster Hurup Havn\n	\n	\n\nHavnen 46\n	\n		\n		Hadsund\,\n\n\n	9560\n\n	Denmark\n\n\n\n\n	+ Google Maps \n\n\n	\n					\n						\n	 \n\n\n	\n	 \n\n\n\n	\n\n\n\n		\n	\n				\n				\n				\n					\n				\n		\n					\n				\n				\n							\n			\n						\n		\n						\n				\n					\n				\n		\n					\n				\n				\n					\n	\n		\n\n				Standerhejsning og generalforsamling	\n\n\n		\n	\n		Skt. Hans
URL:https://xn--hllet-vua.dk/aktivitet/standerhejsning/
LOCATION:Høllets bådelaug\, Under Skoven 9\, Hobro\, 9500\, Denmark
CATEGORIES:2026,Standerhejsning
ATTACH;FMTTYPE=image/jpeg:https://xn--hllet-vua.dk/wp-content/uploads/2026/01/Standerhejsning.jpg
END:VEVENT
END:VCALENDAR