BEGIN:VCALENDAR
VERSION:2.0
PRODID:-//Høllet - ECPv6.15.19//NONSGML v1.0//EN
CALSCALE:GREGORIAN
METHOD:PUBLISH
X-WR-CALNAME:Høllet
X-ORIGINAL-URL:https://xn--hllet-vua.dk
X-WR-CALDESC:Begivenheder for Høllet
REFRESH-INTERVAL;VALUE=DURATION:PT1H
X-Robots-Tag:noindex
X-PUBLISHED-TTL:PT1H
BEGIN:VTIMEZONE
TZID:Europe/Copenhagen
BEGIN:DAYLIGHT
TZOFFSETFROM:+0100
TZOFFSETTO:+0200
TZNAME:CEST
DTSTART:20250330T010000
END:DAYLIGHT
BEGIN:STANDARD
TZOFFSETFROM:+0200
TZOFFSETTO:+0100
TZNAME:CET
DTSTART:20251026T010000
END:STANDARD
BEGIN:DAYLIGHT
TZOFFSETFROM:+0100
TZOFFSETTO:+0200
TZNAME:CEST
DTSTART:20260329T010000
END:DAYLIGHT
BEGIN:STANDARD
TZOFFSETFROM:+0200
TZOFFSETTO:+0100
TZNAME:CET
DTSTART:20261025T010000
END:STANDARD
BEGIN:DAYLIGHT
TZOFFSETFROM:+0100
TZOFFSETTO:+0200
TZNAME:CEST
DTSTART:20270328T010000
END:DAYLIGHT
BEGIN:STANDARD
TZOFFSETFROM:+0200
TZOFFSETTO:+0100
TZNAME:CET
DTSTART:20271031T010000
END:STANDARD
END:VTIMEZONE
BEGIN:VEVENT
DTSTART;TZID=Europe/Copenhagen:20260829T000000
DTEND;TZID=Europe/Copenhagen:20260829T000000
DTSTAMP:20260420T042203
CREATED:20250801T084351Z
LAST-MODIFIED:20260306T120412Z
UID:800-1787961600-1787961600@xn--hllet-vua.dk
SUMMARY:Sensommerfest
DESCRIPTION:Sensommerfest				\n				\n				\n				\n					\n		\n			29. august 2026\n\n			\n				\n				\n				\n				\n					\n	\n				\n				\n				\n				\n					\n	\n		\n\n	\n	Tilføj til kalender	\n		\n	\n\n		\n			\n									\n	Google kalender\n\n									\n	iCalendar\n\n									\n	Outlook 365\n\n									\n	Outlook Live\n\n							\n		\n\n		\n	\n\n				\n				\n				\n				\n					\n				\n				\n	\n	Høllets bådelaug\n	\n	\n\nUnder Skoven 9\n	\n		\n		Hobro\,\n\n\n	9500\n\n	Denmark\n\n\n\n\n	+ Google Maps \n\n\n	\n					\n						\n	 \n\n\n	\n	 \n\n\n\n	\n\n\n\n		\n	\n				\n				\n				\n					\n				\n		\n					\n				\n				\n							\n			\n						\n		\n						\n				\n					\n				\n		\n					\n				\n				\n					\n	\n		\n\n				Skt. Hans	\n\n\n		\n	\n		Lysregatta Mariager Fjord
URL:https://xn--hllet-vua.dk/aktivitet/aalegilde-i-hoellet/
LOCATION:Høllets bådelaug\, Under Skoven 9\, Hobro\, 9500\, Denmark
CATEGORIES:2026
ATTACH;FMTTYPE=image/webp:https://xn--hllet-vua.dk/wp-content/uploads/2025/08/Sensommerfest.webp
END:VEVENT
END:VCALENDAR