BEGIN:VCALENDAR
VERSION:2.0
PRODID:-//Høllet - ECPv6.15.19//NONSGML v1.0//EN
CALSCALE:GREGORIAN
METHOD:PUBLISH
X-WR-CALNAME:Høllet
X-ORIGINAL-URL:https://xn--hllet-vua.dk
X-WR-CALDESC:Begivenheder for Høllet
REFRESH-INTERVAL;VALUE=DURATION:PT1H
X-Robots-Tag:noindex
X-PUBLISHED-TTL:PT1H
BEGIN:VTIMEZONE
TZID:Europe/Copenhagen
BEGIN:DAYLIGHT
TZOFFSETFROM:+0100
TZOFFSETTO:+0200
TZNAME:CEST
DTSTART:20250330T010000
END:DAYLIGHT
BEGIN:STANDARD
TZOFFSETFROM:+0200
TZOFFSETTO:+0100
TZNAME:CET
DTSTART:20251026T010000
END:STANDARD
BEGIN:DAYLIGHT
TZOFFSETFROM:+0100
TZOFFSETTO:+0200
TZNAME:CEST
DTSTART:20260329T010000
END:DAYLIGHT
BEGIN:STANDARD
TZOFFSETFROM:+0200
TZOFFSETTO:+0100
TZNAME:CET
DTSTART:20261025T010000
END:STANDARD
BEGIN:DAYLIGHT
TZOFFSETFROM:+0100
TZOFFSETTO:+0200
TZNAME:CEST
DTSTART:20270328T010000
END:DAYLIGHT
BEGIN:STANDARD
TZOFFSETFROM:+0200
TZOFFSETTO:+0100
TZNAME:CET
DTSTART:20271031T010000
END:STANDARD
END:VTIMEZONE
BEGIN:VEVENT
DTSTART;TZID=Europe/Copenhagen:20260912T000000
DTEND;TZID=Europe/Copenhagen:20260912T000000
DTSTAMP:20260420T042042
CREATED:20250801T084723Z
LAST-MODIFIED:20260306T121506Z
UID:802-1789171200-1789171200@xn--hllet-vua.dk
SUMMARY:Lysregatta Mariager Fjord
DESCRIPTION:Lysregatta Mariager Fjord				\n				\n				\n				\n					\n		\n			12. september 2026\n\n			\n				\n				\n				\n				\n					\n	\n				\n				\n				\n				\n									Traditionen tro\, deltager Svanen i den årlige Lysregatta på Danmarks flotteste fjord.Lysregattaen starter kl. 20:00\, hvor Svanen sejler ud fra Mariager med 30-60 både som følge\, i et fantastisk flot lys optog. Selve havnen danner rammen omkring et væld af aktiviteter\, hygge og mulighed for lidt godt til ganen. Kom og vær med på denne herlige dag. Læs mere her: Lysregatta Mariager Fjord								\n				\n				\n				\n					\n	\n		\n\n	\n	Tilføj til kalender	\n		\n	\n\n		\n			\n									\n	Google kalender\n\n									\n	iCalendar\n\n									\n	Outlook 365\n\n									\n	Outlook Live\n\n							\n		\n\n		\n	\n\n				\n				\n				\n				\n					\n				\n				\n	\n	Mariager havn\n	\n	\n\nFjordgade 5\n	\n		\n		Mariager\,\n\n\n	9550\n\n	Denmark\n\n\n\n\n	+ Google Maps \n\n\n	\n					\n						\n	 \n\n\n	\n	 \n\n\n\n	\n\n\n\n		\n	\n				\n				\n				\n					\n				\n		\n					\n				\n				\n							\n			\n						\n		\n						\n				\n					\n				\n		\n					\n				\n				\n					\n	\n		\n\n				Sensommerfest	\n\n\n		\n	\n		Standerstrygning
URL:https://xn--hllet-vua.dk/aktivitet/lysregatta-mariager/
LOCATION:Mariager havn\, Fjordgade 5\, Mariager\, 9550\, Denmark
CATEGORIES:2026,Lysregatta Mariager
ATTACH;FMTTYPE=image/jpeg:https://xn--hllet-vua.dk/wp-content/uploads/2025/08/Lysregatta-mariager-fjord.jpg
END:VEVENT
END:VCALENDAR